BEGIN:VCALENDAR
VERSION:2.0
PRODID:-//West End Kindergarten - ECPv4.6.19//NONSGML v1.0//EN
CALSCALE:GREGORIAN
METHOD:PUBLISH
X-WR-CALNAME:West End Kindergarten
X-ORIGINAL-URL:http://sckindergartens.org.nz/westend
X-WR-CALDESC:Events for West End Kindergarten
BEGIN:VEVENT
DTSTART;VALUE=DATE:20181225
DTEND;VALUE=DATE:20181226
DTSTAMP:20181224T063034
CREATED:20170829T223530Z
LAST-MODIFIED:20170830T030545Z
UID:2028-1545696000-1545782399@sckindergartens.org.nz
SUMMARY:Christmas Day
DESCRIPTION:
URL:http://sckindergartens.org.nz/westend/event/christmas-day-2/
CATEGORIES:Public Holidays
END:VEVENT
BEGIN:VEVENT
DTSTART;VALUE=DATE:20181226
DTEND;VALUE=DATE:20181227
DTSTAMP:20181224T063034
CREATED:20170829T223604Z
LAST-MODIFIED:20170830T013241Z
UID:2029-1545782400-1545868799@sckindergartens.org.nz
SUMMARY:Boxing Day
DESCRIPTION:
URL:http://sckindergartens.org.nz/westend/event/boxing-day-2/
CATEGORIES:Public Holidays
END:VEVENT
END:VCALENDAR